BEGIN:VCALENDAR
VERSION:2.0
PRODID:-//Spice Girls Global Kitchen - ECPv6.1.2.2//NONSGML v1.0//EN
CALSCALE:GREGORIAN
METHOD:PUBLISH
X-ORIGINAL-URL:https://spicegirlsco.com
X-WR-CALDESC:Events for Spice Girls Global Kitchen
REFRESH-INTERVAL;VALUE=DURATION:PT1H
X-Robots-Tag:noindex
X-PUBLISHED-TTL:PT1H
BEGIN:VTIMEZONE
TZID:America/Denver
BEGIN:DAYLIGHT
TZOFFSETFROM:-0700
TZOFFSETTO:-0600
TZNAME:MDT
DTSTART:20250309T090000
END:DAYLIGHT
BEGIN:STANDARD
TZOFFSETFROM:-0600
TZOFFSETTO:-0700
TZNAME:MST
DTSTART:20251102T080000
END:STANDARD
END:VTIMEZONE
BEGIN:VEVENT
DTSTART;TZID=America/Denver:20250809T093000
DTEND;TZID=America/Denver:20250810T140000
DTSTAMP:20260426T005944
CREATED:20250731T180118Z
LAST-MODIFIED:20250731T180118Z
UID:10000103-1754731800-1754834400@spicegirlsco.com
SUMMARY:ChokeCherry Fesribal
DESCRIPTION:
URL:https://spicegirlsco.com/event/chokecherry-fesribal/
LOCATION:https://goo.gl/maps/pwcd569dVX61PCRK7
END:VEVENT
END:VCALENDAR