BEGIN:VCALENDAR
VERSION:2.0
PRODID:-//Spice Girls Global Kitchen - ECPv6.1.2.2//NONSGML v1.0//EN
CALSCALE:GREGORIAN
METHOD:PUBLISH
X-ORIGINAL-URL:https://spicegirlsco.com
X-WR-CALDESC:Events for Spice Girls Global Kitchen
REFRESH-INTERVAL;VALUE=DURATION:PT1H
X-Robots-Tag:noindex
X-PUBLISHED-TTL:PT1H
BEGIN:VTIMEZONE
TZID:America/Denver
BEGIN:DAYLIGHT
TZOFFSETFROM:-0700
TZOFFSETTO:-0600
TZNAME:MDT
DTSTART:20250309T090000
END:DAYLIGHT
BEGIN:STANDARD
TZOFFSETFROM:-0600
TZOFFSETTO:-0700
TZNAME:MST
DTSTART:20251102T080000
END:STANDARD
END:VTIMEZONE
BEGIN:VEVENT
DTSTART;TZID=America/Denver:20250530T170000
DTEND;TZID=America/Denver:20250530T193000
DTSTAMP:20260426T000155
CREATED:20250427T225431Z
LAST-MODIFIED:20250427T225431Z
UID:10000040-1748624400-1748633400@spicegirlsco.com
SUMMARY:Food Truck Fridays at Butterfly Park
DESCRIPTION:Note: Please update your date and time. The date and time has defaulted to Coordinated Universal Time (UTC) as we were unable to determine your local time zone.NAME: Nicole RigdonSIGNED UP FOR:– Entree VIEW SIGN UP FORM:https://www.signupgenius.com/go/20F0A45AEAD2DA1FB6-food
URL:https://spicegirlsco.com/event/food-truck-fridays-at-butterfly-park/
LOCATION:Butterfly Park – Central Park Denver\, North End
END:VEVENT
BEGIN:VEVENT
DTSTART;TZID=America/Denver:20250627T170000
DTEND;TZID=America/Denver:20250627T193000
DTSTAMP:20260426T000155
CREATED:20250427T225431Z
LAST-MODIFIED:20250427T225431Z
UID:10000041-1751043600-1751052600@spicegirlsco.com
SUMMARY:Food Truck Fridays at Butterfly Park
DESCRIPTION:Note: Please update your date and time. The date and time has defaulted to Coordinated Universal Time (UTC) as we were unable to determine your local time zone.NAME: Nicole RigdonSIGNED UP FOR:– Entree VIEW SIGN UP FORM:https://www.signupgenius.com/go/20F0A45AEAD2DA1FB6-food
URL:https://spicegirlsco.com/event/food-truck-fridays-at-butterfly-park-2/
LOCATION:Butterfly Park – Central Park Denver\, North End
END:VEVENT
BEGIN:VEVENT
DTSTART;TZID=America/Denver:20250815T170000
DTEND;TZID=America/Denver:20250815T193000
DTSTAMP:20260426T000155
CREATED:20250427T225431Z
LAST-MODIFIED:20250427T225431Z
UID:10000042-1755277200-1755286200@spicegirlsco.com
SUMMARY:Food Truck Fridays at Butterfly Park
DESCRIPTION:Note: Please update your date and time. The date and time has defaulted to Coordinated Universal Time (UTC) as we were unable to determine your local time zone.NAME: Nicole RigdonSIGNED UP FOR:– Entree VIEW SIGN UP FORM:https://www.signupgenius.com/go/20F0A45AEAD2DA1FB6-food
URL:https://spicegirlsco.com/event/food-truck-fridays-at-butterfly-park-3/
LOCATION:Butterfly Park – Central Park Denver\, North End
END:VEVENT
END:VCALENDAR