BEGIN:VCALENDAR
VERSION:2.0
PRODID:-//Spice Girls Global Kitchen - ECPv6.1.2.2//NONSGML v1.0//EN
CALSCALE:GREGORIAN
METHOD:PUBLISH
X-ORIGINAL-URL:https://spicegirlsco.com
X-WR-CALDESC:Events for Spice Girls Global Kitchen
REFRESH-INTERVAL;VALUE=DURATION:PT1H
X-Robots-Tag:noindex
X-PUBLISHED-TTL:PT1H
BEGIN:VTIMEZONE
TZID:America/Denver
BEGIN:DAYLIGHT
TZOFFSETFROM:-0700
TZOFFSETTO:-0600
TZNAME:MDT
DTSTART:20250309T090000
END:DAYLIGHT
BEGIN:STANDARD
TZOFFSETFROM:-0600
TZOFFSETTO:-0700
TZNAME:MST
DTSTART:20251102T080000
END:STANDARD
END:VTIMEZONE
BEGIN:VEVENT
DTSTART;TZID=America/Denver:20250716T163000
DTEND;TZID=America/Denver:20250716T200000
DTSTAMP:20260426T040043
CREATED:20250630T211531Z
LAST-MODIFIED:20250630T211531Z
UID:10000084-1752683400-1752696000@spicegirlsco.com
SUMMARY:Westcliff
DESCRIPTION:Truckster Hood Event—Westcliffrequested by Brandy Reedon Jul 16\, 2025Client Email: brandalion@icloud.comClient Phone: 7202327345Food Truck Email: spicegirlscolo@gmail.comFood Truck Phone: +13039613267 \nParking Instructions: Park next to the parkRequired Mobile Ordering: NoMinimum budget: 0Address: 9715 Marshall Way\, Westminster CO 80021
URL:https://spicegirlsco.com/event/westcliff/
LOCATION:9715 Marshall Way\, Westminster CO 80021
END:VEVENT
END:VCALENDAR