BEGIN:VCALENDAR
VERSION:2.0
PRODID:-//Spice Girls Global Kitchen - ECPv6.1.2.2//NONSGML v1.0//EN
CALSCALE:GREGORIAN
METHOD:PUBLISH
X-ORIGINAL-URL:https://spicegirlsco.com
X-WR-CALDESC:Events for Spice Girls Global Kitchen
REFRESH-INTERVAL;VALUE=DURATION:PT1H
X-Robots-Tag:noindex
X-PUBLISHED-TTL:PT1H
BEGIN:VTIMEZONE
TZID:America/Denver
BEGIN:DAYLIGHT
TZOFFSETFROM:-0700
TZOFFSETTO:-0600
TZNAME:MDT
DTSTART:20250309T090000
END:DAYLIGHT
BEGIN:STANDARD
TZOFFSETFROM:-0600
TZOFFSETTO:-0700
TZNAME:MST
DTSTART:20251102T080000
END:STANDARD
END:VTIMEZONE
BEGIN:VEVENT
DTSTART;TZID=America/Denver:20251218T130000
DTEND;TZID=America/Denver:20251218T150000
DTSTAMP:20260425T163833
CREATED:20251125T220653Z
LAST-MODIFIED:20251125T220653Z
UID:10000145-1766062800-1766070000@spicegirlsco.com
SUMMARY:Corporate
DESCRIPTION:Truckster Catering Lead—Corporaterequested by Gretchen Johnsonon Dec 18\, 2025Client Email: gretchen@nococustomhomes.comClient Phone: 9703089287Food Truck: Spice Girls Global KitchenFood Truck Email: spicegirlscolo@gmail.comFood Truck Phone: +13039613267 \nPaying By: HostBudget: $600 – $1200Guest: 50Event Type: Food Truck ServiceRequest Type: Mexican \nClient Notes: N/A
URL:https://spicegirlsco.com/event/corporate/
LOCATION:2026 Bear Mountain Drive # 107\, Fort Collins\, 80524
END:VEVENT
END:VCALENDAR