BEGIN:VCALENDAR
VERSION:2.0
PRODID:-//Spice Girls Global Kitchen - ECPv6.1.2.2//NONSGML v1.0//EN
CALSCALE:GREGORIAN
METHOD:PUBLISH
X-WR-CALNAME:Spice Girls Global Kitchen
X-ORIGINAL-URL:https://spicegirlsco.com
X-WR-CALDESC:Events for Spice Girls Global Kitchen
REFRESH-INTERVAL;VALUE=DURATION:PT1H
X-Robots-Tag:noindex
X-PUBLISHED-TTL:PT1H
BEGIN:VTIMEZONE
TZID:America/Denver
BEGIN:DAYLIGHT
TZOFFSETFROM:-0700
TZOFFSETTO:-0600
TZNAME:MDT
DTSTART:20250309T090000
END:DAYLIGHT
BEGIN:STANDARD
TZOFFSETFROM:-0600
TZOFFSETTO:-0700
TZNAME:MST
DTSTART:20251102T080000
END:STANDARD
TZID:UTC
BEGIN:STANDARD
TZOFFSETFROM:+0000
TZOFFSETTO:+0000
TZNAME:UTC
DTSTART:20250101T000000
END:STANDARD
END:VTIMEZONE
BEGIN:VEVENT
DTSTART;TZID=America/Denver:20250831T190000
DTEND;TZID=America/Denver:20250831T230000
DTSTAMP:20260425T221904
CREATED:20250825T195638Z
LAST-MODIFIED:20250825T195638Z
UID:10000113-1756666800-1756681200@spicegirlsco.com
SUMMARY:Get Life Glo Party
DESCRIPTION:
URL:https://spicegirlsco.com/event/get-life-glo-party/
END:VEVENT
BEGIN:VEVENT
DTSTART;TZID=America/Denver:20250905T170000
DTEND;TZID=America/Denver:20250905T210000
DTSTAMP:20260425T221904
CREATED:20250827T155553Z
LAST-MODIFIED:20250827T155553Z
UID:10000115-1757091600-1757106000@spicegirlsco.com
SUMMARY:Palmer HS Homecoming
DESCRIPTION:
URL:https://spicegirlsco.com/event/palmer-hs-homecoming/
END:VEVENT
BEGIN:VEVENT
DTSTART;TZID=America/Denver:20250906T100000
DTEND;TZID=America/Denver:20250906T140000
DTSTAMP:20260425T221904
CREATED:20250702T015343Z
LAST-MODIFIED:20250702T015343Z
UID:10000086-1757152800-1757167200@spicegirlsco.com
SUMMARY:Car Show
DESCRIPTION:Brooke Messenger
URL:https://spicegirlsco.com/event/car-show/
LOCATION:17910 Parkside Dr N\, Commerce City\, CO 80022\, USA
END:VEVENT
BEGIN:VEVENT
DTSTART;TZID=America/Denver:20250906T163000
DTEND;TZID=America/Denver:20250906T190000
DTSTAMP:20260425T221904
CREATED:20250713T005541Z
LAST-MODIFIED:20250713T005541Z
UID:10000091-1757176200-1757185200@spicegirlsco.com
SUMMARY:Shauna Truckster event 40ppl
DESCRIPTION:
URL:https://spicegirlsco.com/event/shauna-truckster-event-40ppl/
LOCATION:9988 Clyde Cir\, Highlands Ranch\, CO 80129\, USA
END:VEVENT
BEGIN:VEVENT
DTSTART;TZID=America/Denver:20250906T170000
DTEND;TZID=America/Denver:20250906T190000
DTSTAMP:20260425T221904
CREATED:20250811T230235Z
LAST-MODIFIED:20250811T230235Z
UID:10000107-1757178000-1757185200@spicegirlsco.com
SUMMARY:Shenandoah Movie Night
DESCRIPTION:Sarah small gmail
URL:https://spicegirlsco.com/event/shenandoah-movie-night/
END:VEVENT
BEGIN:VEVENT
DTSTART;TZID=America/Denver:20250910T170000
DTEND;TZID=America/Denver:20250910T193000
DTSTAMP:20260425T221904
CREATED:20250908T195343Z
LAST-MODIFIED:20250908T195343Z
UID:10000120-1757523600-1757532600@spicegirlsco.com
SUMMARY:Truckster Hood Event
DESCRIPTION:600 minimum
URL:https://spicegirlsco.com/event/truckster-hood-event/
LOCATION:https://maps.app.goo.gl/Hkez9eSsmT68tHiy6
END:VEVENT
BEGIN:VEVENT
DTSTART;TZID=America/Denver:20250912T103000
DTEND;TZID=America/Denver:20250912T130000
DTSTAMP:20260425T221904
CREATED:20250731T235241Z
LAST-MODIFIED:20250731T235241Z
UID:10000105-1757673000-1757682000@spicegirlsco.com
SUMMARY:Busy
DESCRIPTION:
URL:https://spicegirlsco.com/event/busy-15/
END:VEVENT
BEGIN:VEVENT
DTSTART;TZID=America/Denver:20250912T180000
DTEND;TZID=America/Denver:20250912T193000
DTSTAMP:20260425T221904
CREATED:20250909T045846Z
LAST-MODIFIED:20250909T045846Z
UID:10000123-1757700000-1757705400@spicegirlsco.com
SUMMARY:Private Event
DESCRIPTION:Sms Tori 7744 requests churros
URL:https://spicegirlsco.com/event/private-event-3/
LOCATION:4634 Trailside Loop\, Castle Rock\, CO 80109\, USA
END:VEVENT
BEGIN:VEVENT
DTSTART;VALUE=DATE:20250913
DTEND;VALUE=DATE:20250914
DTSTAMP:20260425T221904
CREATED:20250730T225335Z
LAST-MODIFIED:20250730T225335Z
UID:10000102-1757721600-1757807999@spicegirlsco.com
SUMMARY:Keystone off Roading Event
DESCRIPTION:Kyle gmail
URL:https://spicegirlsco.com/event/keystone-off-roading-event/
LOCATION:Keystone\, CO 80435\, USA
END:VEVENT
BEGIN:VEVENT
DTSTART;TZID=America/Denver:20250918T110000
DTEND;TZID=America/Denver:20250918T130000
DTSTAMP:20260425T221904
CREATED:20250908T160213Z
LAST-MODIFIED:20250908T160213Z
UID:10000119-1758193200-1758200400@spicegirlsco.com
SUMMARY:Roaming Hunger Lunch
DESCRIPTION:20ppl full menu plus bev and desert
URL:https://spicegirlsco.com/event/roaming-hunger-lunch/
LOCATION:9351 W Jewell Ave\, Lakewood\, CO 80232\, USA
END:VEVENT
BEGIN:VEVENT
DTSTART;TZID=America/Denver:20250918T160000
DTEND;TZID=America/Denver:20250918T200000
DTSTAMP:20260425T221904
CREATED:20250816T195356Z
LAST-MODIFIED:20250816T195356Z
UID:10000108-1758211200-1758225600@spicegirlsco.com
SUMMARY:2 Dads Eatery & Taproom
DESCRIPTION:
URL:https://spicegirlsco.com/event/2-dads-eatery-taproom-7/
LOCATION:60006 US Hwy 285\, Bailey\, CO 80421\, USA
END:VEVENT
BEGIN:VEVENT
DTSTART;TZID=America/Denver:20250918T180000
DTEND;TZID=America/Denver:20250918T203000
DTSTAMP:20260425T221904
CREATED:20250826T165416Z
LAST-MODIFIED:20250826T165416Z
UID:10000114-1758218400-1758227400@spicegirlsco.com
SUMMARY:Roaming hunger
DESCRIPTION:
URL:https://spicegirlsco.com/event/roaming-hunger/
END:VEVENT
BEGIN:VEVENT
DTSTART;TZID=America/Denver:20250920T110000
DTEND;TZID=America/Denver:20250920T140000
DTSTAMP:20260425T221904
CREATED:20250628T015429Z
LAST-MODIFIED:20250628T015429Z
UID:10000080-1758366000-1758376800@spicegirlsco.com
SUMMARY:Horse Show Event
DESCRIPTION:Sherry gmail
URL:https://spicegirlsco.com/event/horse-show-event/
LOCATION:16687 N County Rd 9\, Wellington\, CO 80549\, USA
END:VEVENT
BEGIN:VEVENT
DTSTART;TZID=America/Denver:20250924T160000
DTEND;TZID=America/Denver:20250924T200000
DTSTAMP:20260425T221904
CREATED:20250816T195356Z
LAST-MODIFIED:20250816T195356Z
UID:10000109-1758729600-1758744000@spicegirlsco.com
SUMMARY:2 Dads Eatery & Taproom
DESCRIPTION:
URL:https://spicegirlsco.com/event/2-dads-eatery-taproom-8/
LOCATION:60006 US Hwy 285\, Bailey\, CO 80421\, USA
END:VEVENT
BEGIN:VEVENT
DTSTART;TZID=America/Denver:20250925T160000
DTEND;TZID=America/Denver:20250925T200000
DTSTAMP:20260425T221904
CREATED:20250816T195356Z
LAST-MODIFIED:20250816T195356Z
UID:10000110-1758816000-1758830400@spicegirlsco.com
SUMMARY:2 Dads Eatery & Taproom
DESCRIPTION:
URL:https://spicegirlsco.com/event/2-dads-eatery-taproom-9/
LOCATION:60006 US Hwy 285\, Bailey\, CO 80421\, USA
END:VEVENT
BEGIN:VEVENT
DTSTART;TZID=America/Denver:20250929T080000
DTEND;TZID=America/Denver:20250929T090000
DTSTAMP:20260425T221904
CREATED:20250916T035304Z
LAST-MODIFIED:20250916T035304Z
UID:10000125-1759132800-1759136400@spicegirlsco.com
SUMMARY:830am skin laundry
DESCRIPTION:
URL:https://spicegirlsco.com/event/830am-skin-laundry/
END:VEVENT
BEGIN:VEVENT
DTSTART;TZID=America/Denver:20250930T093000
DTEND;TZID=America/Denver:20250930T103000
DTSTAMP:20260425T221904
CREATED:20250624T185753Z
LAST-MODIFIED:20250624T185753Z
UID:10000075-1759224600-1759228200@spicegirlsco.com
SUMMARY:Dental appt
DESCRIPTION:
URL:https://spicegirlsco.com/event/dental-appt/
END:VEVENT
END:VCALENDAR