BEGIN:VCALENDAR
VERSION:2.0
PRODID:-//Spice Girls Global Kitchen - ECPv6.1.2.2//NONSGML v1.0//EN
CALSCALE:GREGORIAN
METHOD:PUBLISH
X-WR-CALNAME:Spice Girls Global Kitchen
X-ORIGINAL-URL:https://spicegirlsco.com
X-WR-CALDESC:Events for Spice Girls Global Kitchen
REFRESH-INTERVAL;VALUE=DURATION:PT1H
X-Robots-Tag:noindex
X-PUBLISHED-TTL:PT1H
BEGIN:VTIMEZONE
TZID:America/Denver
BEGIN:DAYLIGHT
TZOFFSETFROM:-0700
TZOFFSETTO:-0600
TZNAME:MDT
DTSTART:20250309T090000
END:DAYLIGHT
BEGIN:STANDARD
TZOFFSETFROM:-0600
TZOFFSETTO:-0700
TZNAME:MST
DTSTART:20251102T080000
END:STANDARD
TZID:UTC
BEGIN:STANDARD
TZOFFSETFROM:+0000
TZOFFSETTO:+0000
TZNAME:UTC
DTSTART:20250101T000000
END:STANDARD
END:VTIMEZONE
BEGIN:VEVENT
DTSTART;TZID=America/Denver:20250730T160000
DTEND;TZID=America/Denver:20250731T200000
DTSTAMP:20260425T233635
CREATED:20250629T031606Z
LAST-MODIFIED:20250629T031606Z
UID:10000083-1753891200-1753992000@spicegirlsco.com
SUMMARY:2 Dads Eatery & Taproom
DESCRIPTION:
URL:https://spicegirlsco.com/event/2-dads-eatery-taproom-5/
LOCATION:60006 US Hwy 285\, Bailey\, CO 80421\, USA
END:VEVENT
BEGIN:VEVENT
DTSTART;TZID=America/Denver:20250731T170000
DTEND;TZID=America/Denver:20250731T193000
DTSTAMP:20260425T233635
CREATED:20250517T220056Z
LAST-MODIFIED:20250517T220056Z
UID:10000048-1753981200-1753990200@spicegirlsco.com
SUMMARY:Windsor Townhomes
DESCRIPTION:William King Messenger
URL:https://spicegirlsco.com/event/windsor-townhomes/
LOCATION:8153 W Eastman Pl\, Lakewood\, CO 80227\, USA
END:VEVENT
BEGIN:VEVENT
DTSTART;TZID=America/Denver:20250801T120000
DTEND;TZID=America/Denver:20250801T150000
DTSTAMP:20260425T233635
CREATED:20250723T155405Z
LAST-MODIFIED:20250723T155405Z
UID:10000099-1754049600-1754060400@spicegirlsco.com
SUMMARY:Grease Monkey
DESCRIPTION:
URL:https://spicegirlsco.com/event/grease-monkey/
LOCATION:12060 colorado Blvd thornton
END:VEVENT
BEGIN:VEVENT
DTSTART;TZID=America/Denver:20250801T170000
DTEND;TZID=America/Denver:20250801T200000
DTSTAMP:20260425T233635
CREATED:20250527T010931Z
LAST-MODIFIED:20250527T010931Z
UID:10000055-1754067600-1754078400@spicegirlsco.com
SUMMARY:Applewood Knolls Swim Club
DESCRIPTION:
URL:https://spicegirlsco.com/event/applewood-knolls-swim-club-2/
LOCATION:11520 W 32nd Ave\, Wheat Ridge\, CO 80033\, USA
END:VEVENT
BEGIN:VEVENT
DTSTART;TZID=America/Denver:20250802T080000
DTEND;TZID=America/Denver:20250802T090000
DTSTAMP:20260425T233635
CREATED:20250528T215312Z
LAST-MODIFIED:20250528T215312Z
UID:10000057-1754121600-1754125200@spicegirlsco.com
SUMMARY:Erie Fest
DESCRIPTION:Kayla Eggmeyer gmail
URL:https://spicegirlsco.com/event/erie-fest/
END:VEVENT
BEGIN:VEVENT
DTSTART;TZID=America/Denver:20250805T173000
DTEND;TZID=America/Denver:20250805T190000
DTSTAMP:20260425T233635
CREATED:20250724T225424Z
LAST-MODIFIED:20250724T225424Z
UID:10000101-1754415000-1754420400@spicegirlsco.com
SUMMARY:Community Get Together
DESCRIPTION:Scott gmail and truckster
URL:https://spicegirlsco.com/event/community-get-together/
LOCATION:6236 Braun Cir\, Arvada\, CO 80004\, USA
END:VEVENT
BEGIN:VEVENT
DTSTART;TZID=America/Denver:20250807T160000
DTEND;TZID=America/Denver:20250807T200000
DTSTAMP:20260425T233635
CREATED:20250624T185753Z
LAST-MODIFIED:20250624T185753Z
UID:10000074-1754582400-1754596800@spicegirlsco.com
SUMMARY:Busy
DESCRIPTION:
URL:https://spicegirlsco.com/event/busy-6/
END:VEVENT
BEGIN:VEVENT
DTSTART;TZID=America/Denver:20250807T160000
DTEND;TZID=America/Denver:20250807T200000
DTSTAMP:20260425T233635
CREATED:20250715T230453Z
LAST-MODIFIED:20250715T230453Z
UID:10000093-1754582400-1754596800@spicegirlsco.com
SUMMARY:2 Dads Eatery & Taproom
DESCRIPTION:
URL:https://spicegirlsco.com/event/2-dads-eatery-taproom-6/
LOCATION:60006 US Hwy 285\, Bailey\, CO 80421\, USA
END:VEVENT
BEGIN:VEVENT
DTSTART;TZID=America/Denver:20250808T160000
DTEND;TZID=America/Denver:20250808T210000
DTSTAMP:20260425T233635
CREATED:20250328T115117Z
LAST-MODIFIED:20250328T115117Z
UID:10000029-1754668800-1754686800@spicegirlsco.com
SUMMARY:Aldonea HOA Community (Open to the public)
DESCRIPTION:
URL:https://spicegirlsco.com/event/aldonea-hoa-community-open-to-the-public-7/
LOCATION:99 N Newbern Way\, Aurora\, CO 80018\, USA
END:VEVENT
BEGIN:VEVENT
DTSTART;TZID=America/Denver:20250808T173000
DTEND;TZID=America/Denver:20250808T200000
DTSTAMP:20260425T233635
CREATED:20250715T230453Z
LAST-MODIFIED:20250715T230453Z
UID:10000094-1754674200-1754683200@spicegirlsco.com
SUMMARY:Busy
DESCRIPTION:
URL:https://spicegirlsco.com/event/busy-11/
END:VEVENT
BEGIN:VEVENT
DTSTART;TZID=America/Denver:20250808T173000
DTEND;TZID=America/Denver:20250808T200000
DTSTAMP:20260425T233635
CREATED:20250717T171234Z
LAST-MODIFIED:20250717T171234Z
UID:10000095-1754674200-1754683200@spicegirlsco.com
SUMMARY:Neighborhood party
DESCRIPTION:Truckster Catering Lead—Neighborhood partyrequested by Michaelon Aug 8\, 2025Client Email: hilmes.michael@gmail.comClient Phone: 9703023596Food Truck: Spice Girls Global KitchenFood Truck Email: spicegirlscolo@gmail.comFood Truck Phone: +13039613267 \nPaying By: AttendeesBudget: TBDGuest: 500Event Type: Food Truck ServiceRequest Type: Mexican\, American\, Comfort Food \nClient Notes: This is a neighborhood block party and movie night that combines two neighborhoods in West Greeley. My neighborhood is approximately 300 homes and the neighboring community is about 500\, Event is advertised in local social media and community board signs. Last year’s attendance was approximately 500-600 people
URL:https://spicegirlsco.com/event/neighborhood-party/
LOCATION:1300 103rd Ave Ct\, Greeley\, 80634
END:VEVENT
BEGIN:VEVENT
DTSTART;TZID=America/Denver:20250809T093000
DTEND;TZID=America/Denver:20250810T140000
DTSTAMP:20260425T233635
CREATED:20250731T180118Z
LAST-MODIFIED:20250731T180118Z
UID:10000103-1754731800-1754834400@spicegirlsco.com
SUMMARY:ChokeCherry Fesribal
DESCRIPTION:
URL:https://spicegirlsco.com/event/chokecherry-fesribal/
LOCATION:https://goo.gl/maps/pwcd569dVX61PCRK7
END:VEVENT
BEGIN:VEVENT
DTSTART;TZID=America/Denver:20250809T120000
DTEND;TZID=America/Denver:20250809T150000
DTSTAMP:20260425T233635
CREATED:20250723T155405Z
LAST-MODIFIED:20250723T155405Z
UID:10000100-1754740800-1754751600@spicegirlsco.com
SUMMARY:Grease Monkey
DESCRIPTION:
URL:https://spicegirlsco.com/event/grease-monkey-2/
LOCATION:4480 S Broadway\, Englewood\, CO 80113\, USA
END:VEVENT
BEGIN:VEVENT
DTSTART;VALUE=DATE:20250810
DTEND;VALUE=DATE:20250811
DTSTAMP:20260425T233635
CREATED:20250706T025930Z
LAST-MODIFIED:20250706T025930Z
UID:10000089-1754784000-1754870399@spicegirlsco.com
SUMMARY:Northern CO Pride Fest
DESCRIPTION:
URL:https://spicegirlsco.com/event/northern-co-pride-fest/
END:VEVENT
BEGIN:VEVENT
DTSTART;TZID=America/Denver:20250812T110000
DTEND;TZID=America/Denver:20250812T130000
DTSTAMP:20260425T233635
CREATED:20250808T210626Z
LAST-MODIFIED:20250808T210626Z
UID:10000106-1754996400-1755003600@spicegirlsco.com
SUMMARY:School Orientation
DESCRIPTION:Truckster Monica Allen
URL:https://spicegirlsco.com/event/school-orientation/
LOCATION:2121 Dad Clark Dr\, Littleton\, CO 80126\, USA
END:VEVENT
BEGIN:VEVENT
DTSTART;TZID=America/Denver:20250812T173000
DTEND;TZID=America/Denver:20250812T200000
DTSTAMP:20260425T233635
CREATED:20250721T235550Z
LAST-MODIFIED:20250721T235550Z
UID:10000098-1755019800-1755028800@spicegirlsco.com
SUMMARY:Truckster Hood Heatherstone
DESCRIPTION:
URL:https://spicegirlsco.com/event/truckster-hood-heatherstone/
LOCATION:567 W 174th Ave\, Broomfield\, CO 80023\, USA
END:VEVENT
BEGIN:VEVENT
DTSTART;TZID=America/Denver:20250813T170000
DTEND;TZID=America/Denver:20250813T193000
DTSTAMP:20260425T233635
CREATED:20250425T230136Z
LAST-MODIFIED:20250425T230136Z
UID:10000038-1755104400-1755113400@spicegirlsco.com
SUMMARY:Sage Sparrow HOA Open to the Public
DESCRIPTION:
URL:https://spicegirlsco.com/event/sage-sparrow-hoa-open-to-the-public-4/
LOCATION:973 W. Sage Sparrow Circle Highlands Ranch\, CO80129
END:VEVENT
BEGIN:VEVENT
DTSTART;TZID=America/Denver:20250815T170000
DTEND;TZID=America/Denver:20250815T193000
DTSTAMP:20260425T233635
CREATED:20250427T225431Z
LAST-MODIFIED:20250427T225431Z
UID:10000042-1755277200-1755286200@spicegirlsco.com
SUMMARY:Food Truck Fridays at Butterfly Park
DESCRIPTION:Note: Please update your date and time. The date and time has defaulted to Coordinated Universal Time (UTC) as we were unable to determine your local time zone.NAME: Nicole RigdonSIGNED UP FOR:– Entree VIEW SIGN UP FORM:https://www.signupgenius.com/go/20F0A45AEAD2DA1FB6-food
URL:https://spicegirlsco.com/event/food-truck-fridays-at-butterfly-park-3/
LOCATION:Butterfly Park – Central Park Denver\, North End
END:VEVENT
BEGIN:VEVENT
DTSTART;TZID=America/Denver:20250817T100000
DTEND;TZID=America/Denver:20250817T140000
DTSTAMP:20260425T233635
CREATED:20250714T205703Z
LAST-MODIFIED:20250714T205703Z
UID:10000092-1755424800-1755439200@spicegirlsco.com
SUMMARY:Busy
DESCRIPTION:
URL:https://spicegirlsco.com/event/busy-10/
END:VEVENT
BEGIN:VEVENT
DTSTART;VALUE=DATE:20250822
DTEND;VALUE=DATE:20250826
DTSTAMP:20260425T233635
CREATED:20250328T115117Z
LAST-MODIFIED:20250328T115117Z
UID:10000026-1755820800-1756166399@spicegirlsco.com
SUMMARY:Business is Closed
DESCRIPTION:
URL:https://spicegirlsco.com/event/business-is-closed/
END:VEVENT
BEGIN:VEVENT
DTSTART;TZID=America/Denver:20250829T170000
DTEND;TZID=America/Denver:20250829T220000
DTSTAMP:20260425T233635
CREATED:20250605T201223Z
LAST-MODIFIED:20250605T201223Z
UID:10000059-1756486800-1756504800@spicegirlsco.com
SUMMARY:Summer Concert
DESCRIPTION:Ryan Kellams Messenger
URL:https://spicegirlsco.com/event/summer-concert/
LOCATION:3632 Morrison Rd\, Denver\, CO 80219\, USA
END:VEVENT
BEGIN:VEVENT
DTSTART;TZID=America/Denver:20250830T180000
DTEND;TZID=America/Denver:20250830T210000
DTSTAMP:20260425T233635
CREATED:20250608T005720Z
LAST-MODIFIED:20250608T005720Z
UID:10000062-1756576800-1756587600@spicegirlsco.com
SUMMARY:Sarah P and the Dirty Loggers Kiowa event
DESCRIPTION:Sms 1417 Lynette
URL:https://spicegirlsco.com/event/sarah-p-and-the-dirty-loggers-kiowa-event/
END:VEVENT
BEGIN:VEVENT
DTSTART;TZID=America/Denver:20250830T180000
DTEND;TZID=America/Denver:20250830T210000
DTSTAMP:20260425T233635
CREATED:20250818T005234Z
LAST-MODIFIED:20250818T005234Z
UID:10000112-1756576800-1756587600@spicegirlsco.com
SUMMARY:PCHS HS Reunion
DESCRIPTION:600 min 50ppl roaming hunger vending event
URL:https://spicegirlsco.com/event/pchs-hs-reunion/
LOCATION:3422 S Broadway\, Englewood\, CO 80113\, USA
END:VEVENT
END:VCALENDAR