BEGIN:VCALENDAR
VERSION:2.0
PRODID:-//Spice Girls Global Kitchen - ECPv6.1.2.2//NONSGML v1.0//EN
CALSCALE:GREGORIAN
METHOD:PUBLISH
X-WR-CALNAME:Spice Girls Global Kitchen
X-ORIGINAL-URL:https://spicegirlsco.com
X-WR-CALDESC:Events for Spice Girls Global Kitchen
REFRESH-INTERVAL;VALUE=DURATION:PT1H
X-Robots-Tag:noindex
X-PUBLISHED-TTL:PT1H
BEGIN:VTIMEZONE
TZID:America/Denver
BEGIN:DAYLIGHT
TZOFFSETFROM:-0700
TZOFFSETTO:-0600
TZNAME:MDT
DTSTART:20250309T090000
END:DAYLIGHT
BEGIN:STANDARD
TZOFFSETFROM:-0600
TZOFFSETTO:-0700
TZNAME:MST
DTSTART:20251102T080000
END:STANDARD
END:VTIMEZONE
BEGIN:VEVENT
DTSTART;TZID=America/Denver:20250719T150000
DTEND;TZID=America/Denver:20250719T193000
DTSTAMP:20260426T000343
CREATED:20250509T160048Z
LAST-MODIFIED:20250509T160048Z
UID:10000045-1752937200-1752953400@spicegirlsco.com
SUMMARY:Private Event
DESCRIPTION:Kevin Dalton messenger
URL:https://spicegirlsco.com/event/private-event/
LOCATION:3150 Wright Ct\, Wheat Ridge\, CO 80215\, USA
END:VEVENT
BEGIN:VEVENT
DTSTART;TZID=America/Denver:20250718T170000
DTEND;TZID=America/Denver:20250718T190000
DTSTAMP:20260426T000343
CREATED:20250520T195311Z
LAST-MODIFIED:20250520T195311Z
UID:10000051-1752858000-1752865200@spicegirlsco.com
SUMMARY:Ken Caryl Summer Concert
DESCRIPTION:Truckster Missy Miller Gmail
URL:https://spicegirlsco.com/event/ken-caryl-summer-concert/
LOCATION:7676 S Continental Divide Rd\, Littleton\, CO 80127\, USA
END:VEVENT
BEGIN:VEVENT
DTSTART;TZID=America/Denver:20250718T113000
DTEND;TZID=America/Denver:20250718T133000
DTSTAMP:20260426T000343
CREATED:20250512T225557Z
LAST-MODIFIED:20250512T225557Z
UID:10000046-1752838200-1752845400@spicegirlsco.com
SUMMARY:Busy
DESCRIPTION:
URL:https://spicegirlsco.com/event/busy/
END:VEVENT
BEGIN:VEVENT
DTSTART;TZID=America/Denver:20250717T160000
DTEND;TZID=America/Denver:20250718T200000
DTSTAMP:20260426T000343
CREATED:20250629T031606Z
LAST-MODIFIED:20250629T031606Z
UID:10000081-1752768000-1752868800@spicegirlsco.com
SUMMARY:2 Dads Eatery & Taproom
DESCRIPTION:
URL:https://spicegirlsco.com/event/2-dads-eatery-taproom-3/
LOCATION:60006 US Hwy 285\, Bailey\, CO 80421\, USA
END:VEVENT
BEGIN:VEVENT
DTSTART;TZID=America/Denver:20250716T163000
DTEND;TZID=America/Denver:20250716T200000
DTSTAMP:20260426T000343
CREATED:20250630T211531Z
LAST-MODIFIED:20250630T211531Z
UID:10000084-1752683400-1752696000@spicegirlsco.com
SUMMARY:Westcliff
DESCRIPTION:Truckster Hood Event—Westcliffrequested by Brandy Reedon Jul 16\, 2025Client Email: brandalion@icloud.comClient Phone: 7202327345Food Truck Email: spicegirlscolo@gmail.comFood Truck Phone: +13039613267 \nParking Instructions: Park next to the parkRequired Mobile Ordering: NoMinimum budget: 0Address: 9715 Marshall Way\, Westminster CO 80021
URL:https://spicegirlsco.com/event/westcliff/
LOCATION:9715 Marshall Way\, Westminster CO 80021
END:VEVENT
BEGIN:VEVENT
DTSTART;TZID=America/Denver:20250716T163000
DTEND;TZID=America/Denver:20250716T200000
DTSTAMP:20260426T000343
CREATED:20250630T211531Z
LAST-MODIFIED:20250630T211531Z
UID:10000085-1752683400-1752696000@spicegirlsco.com
SUMMARY:Truckster Hood Westcliffe
DESCRIPTION:
URL:https://spicegirlsco.com/event/truckster-hood-westcliffe/
LOCATION:9715 Marshall Way\, Westminster\, CO 80021\, USA
END:VEVENT
BEGIN:VEVENT
DTSTART;TZID=America/Denver:20250716T110000
DTEND;TZID=America/Denver:20250716T130000
DTSTAMP:20260426T000343
CREATED:20250710T015801Z
LAST-MODIFIED:20250710T015801Z
UID:10000090-1752663600-1752670800@spicegirlsco.com
SUMMARY:Busy
DESCRIPTION:
URL:https://spicegirlsco.com/event/busy-9/
END:VEVENT
BEGIN:VEVENT
DTSTART;TZID=America/Denver:20250715T160000
DTEND;TZID=America/Denver:20250715T200000
DTSTAMP:20260426T000343
CREATED:20250617T015320Z
LAST-MODIFIED:20250617T015320Z
UID:10000069-1752595200-1752609600@spicegirlsco.com
SUMMARY:Sterling Ranch neighborhood
DESCRIPTION:
URL:https://spicegirlsco.com/event/sterling-ranch-neighborhood-2/
END:VEVENT
BEGIN:VEVENT
DTSTART;TZID=America/Denver:20250713T170000
DTEND;TZID=America/Denver:20250713T190000
DTSTAMP:20260426T000343
CREATED:20250328T164944Z
LAST-MODIFIED:20250328T164944Z
UID:10000031-1752426000-1752433200@spicegirlsco.com
SUMMARY:Belmar HOA Food Truck Event (open to the public)
DESCRIPTION:Sara Chapman
URL:https://spicegirlsco.com/event/belmar-hoa-food-truck-event-open-to-the-public/
LOCATION:5395 Lakeshore Dr\, Bow Mar\, CO 80123\, USA
END:VEVENT
BEGIN:VEVENT
DTSTART;TZID=America/Denver:20250713T100000
DTEND;TZID=America/Denver:20250713T150000
DTSTAMP:20260426T000343
CREATED:20250328T115117Z
LAST-MODIFIED:20250328T115117Z
UID:10000022-1752400800-1752418800@spicegirlsco.com
SUMMARY:Rockin Rods Custom Bike and Car Show
DESCRIPTION:
URL:https://spicegirlsco.com/event/rockin-rods-custom-bike-and-car-show/
LOCATION:3220 Center Dr.\, Milliken\, C0 80543
END:VEVENT
BEGIN:VEVENT
DTSTART;TZID=America/Denver:20250711T170000
DTEND;TZID=America/Denver:20250711T200000
DTSTAMP:20260426T000343
CREATED:20250527T010931Z
LAST-MODIFIED:20250527T010931Z
UID:10000054-1752253200-1752264000@spicegirlsco.com
SUMMARY:Applewood Knolls Swim Club
DESCRIPTION:
URL:https://spicegirlsco.com/event/applewood-knolls-swim-club/
LOCATION:11520 W 32nd Ave\, Wheat Ridge\, CO 80033\, USA
END:VEVENT
BEGIN:VEVENT
DTSTART;TZID=America/Denver:20250708T170000
DTEND;TZID=America/Denver:20250708T190000
DTSTAMP:20260426T000343
CREATED:20250527T195402Z
LAST-MODIFIED:20250527T195402Z
UID:10000056-1751994000-1752001200@spicegirlsco.com
SUMMARY:HOA Community Block Party
DESCRIPTION:Cassie Vogel messenger
URL:https://spicegirlsco.com/event/hoa-community-block-party/
LOCATION:8601 W 2nd Ave\, Lakewood\, CO\, 80236
END:VEVENT
BEGIN:VEVENT
DTSTART;TZID=America/Denver:20250708T130000
DTEND;TZID=America/Denver:20250708T150000
DTSTAMP:20260426T000343
CREATED:20250624T185753Z
LAST-MODIFIED:20250624T185753Z
UID:10000073-1751979600-1751986800@spicegirlsco.com
SUMMARY:Busy
DESCRIPTION:
URL:https://spicegirlsco.com/event/busy-5/
END:VEVENT
BEGIN:VEVENT
DTSTART;TZID=America/Denver:20250707T104500
DTEND;TZID=America/Denver:20250707T140000
DTSTAMP:20260426T000343
CREATED:20250530T031341Z
LAST-MODIFIED:20250530T031341Z
UID:10000058-1751885100-1751896800@spicegirlsco.com
SUMMARY:St Anthony's North EMS Week event
DESCRIPTION:Stephanie Webb
URL:https://spicegirlsco.com/event/st-anthonys-north-ems-week-event/
LOCATION:14300 Orchard Pkwy\, Westminster\, CO 80023\, USA
END:VEVENT
BEGIN:VEVENT
DTSTART;TZID=America/Denver:20250705T100000
DTEND;TZID=America/Denver:20250705T140000
DTSTAMP:20260426T000343
CREATED:20250606T073242Z
LAST-MODIFIED:20250606T073242Z
UID:10000060-1751709600-1751724000@spicegirlsco.com
SUMMARY:Range view HS Car Show
DESCRIPTION:Corey Nables messenger
URL:https://spicegirlsco.com/event/range-view-hs-car-show/
END:VEVENT
BEGIN:VEVENT
DTSTART;TZID=America/Denver:20250704T110000
DTEND;TZID=America/Denver:20250704T140000
DTSTAMP:20260426T000343
CREATED:20250328T115117Z
LAST-MODIFIED:20250328T115117Z
UID:10000020-1751626800-1751637600@spicegirlsco.com
SUMMARY:Aldonea HOA Community (Open to the public)
DESCRIPTION:
URL:https://spicegirlsco.com/event/aldonea-hoa-community-open-to-the-public-5/
LOCATION:99 N Newbern Way\, Aurora\, CO 80018\, USA
END:VEVENT
BEGIN:VEVENT
DTSTART;TZID=America/Denver:20250703T180000
DTEND;TZID=America/Denver:20250703T200000
DTSTAMP:20260426T000343
CREATED:20250607T025505Z
LAST-MODIFIED:20250607T025505Z
UID:10000061-1751565600-1751572800@spicegirlsco.com
SUMMARY:Private Event
DESCRIPTION:Em Sms #1333
URL:https://spicegirlsco.com/event/private-event-2/
LOCATION:86 Westerly Blvd\, Erie\, CO 80516\, USA
END:VEVENT
BEGIN:VEVENT
DTSTART;TZID=America/Denver:20250702T170000
DTEND;TZID=America/Denver:20250702T200000
DTSTAMP:20260426T000343
CREATED:20250625T195540Z
LAST-MODIFIED:20250625T195540Z
UID:10000078-1751475600-1751486400@spicegirlsco.com
SUMMARY:Canberra Highlands Ranch
DESCRIPTION:
URL:https://spicegirlsco.com/event/canberra-highlands-ranch/
LOCATION:Canberra Highlands Ranch
END:VEVENT
BEGIN:VEVENT
DTSTART;TZID=America/Denver:20250630T160000
DTEND;TZID=America/Denver:20250630T200000
DTSTAMP:20260426T000343
CREATED:20250428T145236Z
LAST-MODIFIED:20250428T145236Z
UID:10000043-1751299200-1751313600@spicegirlsco.com
SUMMARY:Sterling Ranch neighborhood
DESCRIPTION:
URL:https://spicegirlsco.com/event/sterling-ranch-neighborhood/
END:VEVENT
BEGIN:VEVENT
DTSTART;TZID=America/Denver:20250630T160000
DTEND;TZID=America/Denver:20250630T200000
DTSTAMP:20260426T000343
CREATED:20250328T115117Z
LAST-MODIFIED:20250328T115117Z
UID:10000018-1751299200-1751313600@spicegirlsco.com
SUMMARY:Sterling Ranch HOA
DESCRIPTION:
URL:https://spicegirlsco.com/event/sterling-ranch-hoa-3/
LOCATION:Living the Dream @ Sterling Ranch(8155 Piney River Ave)
END:VEVENT
BEGIN:VEVENT
DTSTART;TZID=America/Denver:20250629T170000
DTEND;TZID=America/Denver:20250629T193000
DTSTAMP:20260426T000343
CREATED:20250328T115117Z
LAST-MODIFIED:20250328T115117Z
UID:10000016-1751216400-1751225400@spicegirlsco.com
SUMMARY:Food Truck Sundays at Butterfly Park - Vendor Signup
DESCRIPTION:Note: Please update your date and time. The date and time has defaulted to Coordinated Universal Time (UTC) as we were unable to determine your local time zone.NAME: Nicole RigdonSIGNED UP FOR:– Entree VIEW SIGN UP FORM:https://www.signupgenius.com/go/20F0A45AEAD2DA1FB6-food
URL:https://spicegirlsco.com/event/food-truck-sundays-at-butterfly-park-vendor-signup-2/
LOCATION:Butterfly Park – Central Park Denver\, North End
END:VEVENT
BEGIN:VEVENT
DTSTART;TZID=America/Denver:20250629T140000
DTEND;TZID=America/Denver:20250629T170000
DTSTAMP:20260426T000343
CREATED:20250625T175911Z
LAST-MODIFIED:20250625T175911Z
UID:10000077-1751205600-1751216400@spicegirlsco.com
SUMMARY:Graduation
DESCRIPTION:Truckster Catering Lead—Graduationrequested by Hallie Brissoon Jun 29\, 2025Client Email: hjbrisso@yahoo.comClient Phone: 7202440156Food Truck: Spice Girls Global KitchenFood Truck Email: spicegirlscolo@gmail.comFood Truck Phone: +13039613267 \nPaying By: HostBudget: $900 – $1500Guest: 75Event Type: Food Truck ServiceRequest Type: Mexican \nClient Notes:
URL:https://spicegirlsco.com/event/graduation/
LOCATION:4746 Jasper St\, Denver\, 80239
END:VEVENT
BEGIN:VEVENT
DTSTART;TZID=America/Denver:20250629T130000
DTEND;TZID=America/Denver:20250629T170000
DTSTAMP:20260426T000343
CREATED:20250623T211053Z
LAST-MODIFIED:20250623T211053Z
UID:10000071-1751202000-1751216400@spicegirlsco.com
SUMMARY:Busy
DESCRIPTION:
URL:https://spicegirlsco.com/event/busy-3/
END:VEVENT
BEGIN:VEVENT
DTSTART;TZID=America/Denver:20250628T150000
DTEND;TZID=America/Denver:20250628T180000
DTSTAMP:20260426T000343
CREATED:20250624T215310Z
LAST-MODIFIED:20250624T215310Z
UID:10000076-1751122800-1751133600@spicegirlsco.com
SUMMARY:Busy
DESCRIPTION:
URL:https://spicegirlsco.com/event/busy-7/
END:VEVENT
BEGIN:VEVENT
DTSTART;TZID=America/Denver:20250628T130000
DTEND;TZID=America/Denver:20250628T150000
DTSTAMP:20260426T000343
CREATED:20250618T215614Z
LAST-MODIFIED:20250618T215614Z
UID:10000070-1751115600-1751122800@spicegirlsco.com
SUMMARY:Pokémon Tournament
DESCRIPTION:
URL:https://spicegirlsco.com/event/pokemon-tournament/
LOCATION:14949 E Alameda Dr\, Aurora\, CO 80012\, USA
END:VEVENT
BEGIN:VEVENT
DTSTART;TZID=America/Denver:20250627T173000
DTEND;TZID=America/Denver:20250627T200000
DTSTAMP:20260426T000343
CREATED:20250626T052741Z
LAST-MODIFIED:20250626T052741Z
UID:10000079-1751045400-1751054400@spicegirlsco.com
SUMMARY:Busy
DESCRIPTION:
URL:https://spicegirlsco.com/event/busy-8/
END:VEVENT
BEGIN:VEVENT
DTSTART;TZID=America/Denver:20250627T170000
DTEND;TZID=America/Denver:20250627T193000
DTSTAMP:20260426T000343
CREATED:20250427T225431Z
LAST-MODIFIED:20250427T225431Z
UID:10000041-1751043600-1751052600@spicegirlsco.com
SUMMARY:Food Truck Fridays at Butterfly Park
DESCRIPTION:Note: Please update your date and time. The date and time has defaulted to Coordinated Universal Time (UTC) as we were unable to determine your local time zone.NAME: Nicole RigdonSIGNED UP FOR:– Entree VIEW SIGN UP FORM:https://www.signupgenius.com/go/20F0A45AEAD2DA1FB6-food
URL:https://spicegirlsco.com/event/food-truck-fridays-at-butterfly-park-2/
LOCATION:Butterfly Park – Central Park Denver\, North End
END:VEVENT
BEGIN:VEVENT
DTSTART;TZID=America/Denver:20250626T103000
DTEND;TZID=America/Denver:20250626T200000
DTSTAMP:20260426T000343
CREATED:20250527T010931Z
LAST-MODIFIED:20250527T010931Z
UID:10000053-1750933800-1750968000@spicegirlsco.com
SUMMARY:2 Dads Eatery & Taproom
DESCRIPTION:
URL:https://spicegirlsco.com/event/2-dads-eatery-taproom-2/
LOCATION:60006 US Hwy 285\, Bailey\, CO 80421\, USA
END:VEVENT
BEGIN:VEVENT
DTSTART;TZID=America/Denver:20250625T170000
DTEND;TZID=America/Denver:20250625T193000
DTSTAMP:20260426T000343
CREATED:20250612T162741Z
LAST-MODIFIED:20250612T162741Z
UID:10000068-1750870800-1750879800@spicegirlsco.com
SUMMARY:Pearl DTC Apartments
DESCRIPTION:
URL:https://spicegirlsco.com/event/pearl-dtc-apartments/
END:VEVENT
BEGIN:VEVENT
DTSTART;TZID=America/Denver:20250625T170000
DTEND;TZID=America/Denver:20250625T190000
DTSTAMP:20260426T000343
CREATED:20250623T225358Z
LAST-MODIFIED:20250623T225358Z
UID:10000072-1750870800-1750878000@spicegirlsco.com
SUMMARY:Busy
DESCRIPTION:
URL:https://spicegirlsco.com/event/busy-4/
END:VEVENT
END:VCALENDAR