BEGIN:VCALENDAR
VERSION:2.0
PRODID:-//Spice Girls Global Kitchen - ECPv6.1.2.2//NONSGML v1.0//EN
CALSCALE:GREGORIAN
METHOD:PUBLISH
X-WR-CALNAME:Spice Girls Global Kitchen
X-ORIGINAL-URL:https://spicegirlsco.com
X-WR-CALDESC:Events for Spice Girls Global Kitchen
REFRESH-INTERVAL;VALUE=DURATION:PT1H
X-Robots-Tag:noindex
X-PUBLISHED-TTL:PT1H
BEGIN:VTIMEZONE
TZID:America/Denver
BEGIN:DAYLIGHT
TZOFFSETFROM:-0700
TZOFFSETTO:-0600
TZNAME:MDT
DTSTART:20250309T090000
END:DAYLIGHT
BEGIN:STANDARD
TZOFFSETFROM:-0600
TZOFFSETTO:-0700
TZNAME:MST
DTSTART:20251102T080000
END:STANDARD
TZID:UTC
BEGIN:STANDARD
TZOFFSETFROM:+0000
TZOFFSETTO:+0000
TZNAME:UTC
DTSTART:20250101T000000
END:STANDARD
END:VTIMEZONE
BEGIN:VEVENT
DTSTART;TZID=America/Denver:20251205T174500
DTEND;TZID=America/Denver:20251205T191500
DTSTAMP:20260425T132735
CREATED:20251117T225323Z
LAST-MODIFIED:20251117T225323Z
UID:10000141-1764956700-1764962100@spicegirlsco.com
SUMMARY:Busy
DESCRIPTION:
URL:https://spicegirlsco.com/event/busy-17/
END:VEVENT
BEGIN:VEVENT
DTSTART;TZID=America/Denver:20251205T130000
DTEND;TZID=America/Denver:20251205T160000
DTSTAMP:20260425T132735
CREATED:20251122T220004Z
LAST-MODIFIED:20251122T220004Z
UID:10000144-1764939600-1764950400@spicegirlsco.com
SUMMARY:Roaming Hunger Private Event
DESCRIPTION:150ppl full menu entree and side no drink
URL:https://spicegirlsco.com/event/roaming-hunger-private-event-3/
LOCATION:2840 S Zuni St\, Englewood\, CO 80110\, USA
END:VEVENT
BEGIN:VEVENT
DTSTART;TZID=America/Denver:20251122T180000
DTEND;TZID=America/Denver:20251122T193000
DTSTAMP:20260425T132735
CREATED:20251117T225323Z
LAST-MODIFIED:20251117T225323Z
UID:10000140-1763834400-1763839800@spicegirlsco.com
SUMMARY:Busy
DESCRIPTION:
URL:https://spicegirlsco.com/event/busy-16/
END:VEVENT
BEGIN:VEVENT
DTSTART;TZID=America/Denver:20251117T160000
DTEND;TZID=America/Denver:20251117T200000
DTSTAMP:20260425T132735
CREATED:20250922T175636Z
LAST-MODIFIED:20250922T175636Z
UID:10000126-1763395200-1763409600@spicegirlsco.com
SUMMARY:Sterling Ranch neighborhood
DESCRIPTION:
URL:https://spicegirlsco.com/event/sterling-ranch-neighborhood-4/
END:VEVENT
BEGIN:VEVENT
DTSTART;VALUE=DATE:20251031
DTEND;VALUE=DATE:20251101
DTSTAMP:20260425T132735
CREATED:20250731T180118Z
LAST-MODIFIED:20250731T180118Z
UID:10000104-1761868800-1761955199@spicegirlsco.com
SUMMARY:Busy
DESCRIPTION:
URL:https://spicegirlsco.com/event/busy-14/
END:VEVENT
BEGIN:VEVENT
DTSTART;TZID=America/Denver:20251030T163000
DTEND;TZID=America/Denver:20251030T183000
DTSTAMP:20260425T132735
CREATED:20250910T225954Z
LAST-MODIFIED:20250910T225954Z
UID:10000124-1761841800-1761849000@spicegirlsco.com
SUMMARY:Trunk or Treat
DESCRIPTION:Truckster Catering Lead—Trunk or Treatrequested by Kristina Perniceon Oct 30\, 2025Client Email: 911kpernice@gmail.comClient Phone: 7088214107Food Truck: Spice Girls Global KitchenFood Truck Email: spicegirlscolo@gmail.comFood Truck Phone: +13039613267 \nPaying By: AttendeesBudget: TBDGuest: 350Event Type: Food Truck ServiceRequest Type: Mediterranean\, Pizza\, Mexican \nClient Notes: We hope to have Vegan and Gluten free items available for our families.
URL:https://spicegirlsco.com/event/trunk-or-treat/
LOCATION:5844 S Timberline Rd\, Fort Collins\, 80528
END:VEVENT
BEGIN:VEVENT
DTSTART;TZID=America/Denver:20251030T163000
DTEND;TZID=America/Denver:20251030T183000
DTSTAMP:20260425T132735
CREATED:20250908T235248Z
LAST-MODIFIED:20250908T235248Z
UID:10000122-1761841800-1761849000@spicegirlsco.com
SUMMARY:Trunk or Treat Bacon Elementary
DESCRIPTION:
URL:https://spicegirlsco.com/event/trunk-or-treat-bacon-elementary/
LOCATION:5844 S Timberline Rd\, Fort Collins\, CO 80528\, USA
END:VEVENT
BEGIN:VEVENT
DTSTART;TZID=America/Denver:20251029T110000
DTEND;TZID=America/Denver:20251029T133000
DTSTAMP:20260425T132735
CREATED:20250903T195617Z
LAST-MODIFIED:20250903T195617Z
UID:10000116-1761735600-1761744600@spicegirlsco.com
SUMMARY:7979 E. Tufts Lunch
DESCRIPTION:Truckster Event
URL:https://spicegirlsco.com/event/7979-e-tufts-lunch/
END:VEVENT
BEGIN:VEVENT
DTSTART;TZID=America/Denver:20251027T160000
DTEND;TZID=America/Denver:20251027T200000
DTSTAMP:20260425T132735
CREATED:20250908T195343Z
LAST-MODIFIED:20250908T195343Z
UID:10000121-1761580800-1761595200@spicegirlsco.com
SUMMARY:Sterling Ranch neighborhood
DESCRIPTION:
URL:https://spicegirlsco.com/event/sterling-ranch-neighborhood-3/
END:VEVENT
BEGIN:VEVENT
DTSTART;TZID=America/Denver:20251025T100000
DTEND;TZID=America/Denver:20251025T150000
DTSTAMP:20260425T132735
CREATED:20250519T220007Z
LAST-MODIFIED:20250519T220007Z
UID:10000049-1761386400-1761404400@spicegirlsco.com
SUMMARY:Trunk or Treat Interstate Ford
DESCRIPTION:Adrienne Gmail
URL:https://spicegirlsco.com/event/trunk-or-treat-interstate-ford/
END:VEVENT
BEGIN:VEVENT
DTSTART;TZID=America/Denver:20251021T080000
DTEND;TZID=America/Denver:20251021T090000
DTSTAMP:20260425T132735
CREATED:20251009T180002Z
LAST-MODIFIED:20251009T180002Z
UID:10000135-1761033600-1761037200@spicegirlsco.com
SUMMARY:Schedule Golf at 945 t time
DESCRIPTION:
URL:https://spicegirlsco.com/event/schedule-golf-at-945-t-time/
END:VEVENT
BEGIN:VEVENT
DTSTART;TZID=America/Denver:20251020T080000
DTEND;TZID=America/Denver:20251020T090000
DTSTAMP:20260425T132735
CREATED:20250608T005720Z
LAST-MODIFIED:20250608T005720Z
UID:10000063-1760947200-1760950800@spicegirlsco.com
SUMMARY:Apply for Noco Brewfest
DESCRIPTION:
URL:https://spicegirlsco.com/event/apply-for-noco-brewfest/
END:VEVENT
BEGIN:VEVENT
DTSTART;TZID=America/Denver:20251019T080000
DTEND;TZID=America/Denver:20251019T090000
DTSTAMP:20260425T132735
CREATED:20251009T180002Z
LAST-MODIFIED:20251009T180002Z
UID:10000134-1760860800-1760864400@spicegirlsco.com
SUMMARY:Catamaran to Klein Curacao
DESCRIPTION:
URL:https://spicegirlsco.com/event/catamaran-to-klein-curacao/
END:VEVENT
BEGIN:VEVENT
DTSTART;TZID=America/Denver:20251018T080000
DTEND;TZID=America/Denver:20251018T090000
DTSTAMP:20260425T132735
CREATED:20251009T180002Z
LAST-MODIFIED:20251009T180002Z
UID:10000133-1760774400-1760778000@spicegirlsco.com
SUMMARY:Swimming with Dolphins 🐬
DESCRIPTION:
URL:https://spicegirlsco.com/event/swimming-with-dolphins-%f0%9f%90%ac/
END:VEVENT
BEGIN:VEVENT
DTSTART;TZID=America/Denver:20251016T101000
DTEND;TZID=America/Denver:20251016T111000
DTSTAMP:20260425T132735
CREATED:20251013T205238Z
LAST-MODIFIED:20251013T205238Z
UID:10000137-1760609400-1760613000@spicegirlsco.com
SUMMARY:Blue Bay Golf Course 10:10 tee time
DESCRIPTION:
URL:https://spicegirlsco.com/event/blue-bay-golf-course-1010-tee-time/
END:VEVENT
BEGIN:VEVENT
DTSTART;TZID=America/Denver:20251013T080000
DTEND;TZID=America/Denver:20251013T090000
DTSTAMP:20260425T132735
CREATED:20250929T145600Z
LAST-MODIFIED:20250929T145600Z
UID:10000129-1760342400-1760346000@spicegirlsco.com
SUMMARY:830am skin laundry
DESCRIPTION:
URL:https://spicegirlsco.com/event/830am-skin-laundry-2/
END:VEVENT
BEGIN:VEVENT
DTSTART;TZID=America/Denver:20251011T080000
DTEND;TZID=America/Denver:20251011T100000
DTSTAMP:20260425T132735
CREATED:20250609T040621Z
LAST-MODIFIED:20250609T040621Z
UID:10000065-1760169600-1760176800@spicegirlsco.com
SUMMARY:Roaming Hunger Private Event
DESCRIPTION:16190 North St Vrain drive Lyons
URL:https://spicegirlsco.com/event/roaming-hunger-private-event/
END:VEVENT
BEGIN:VEVENT
DTSTART;VALUE=DATE:20251008
DTEND;VALUE=DATE:20251009
DTSTAMP:20260425T132735
CREATED:20250903T235257Z
LAST-MODIFIED:20250903T235257Z
UID:10000117-1759881600-1759967999@spicegirlsco.com
SUMMARY:Neighborhood Food Truck Night
DESCRIPTION:
URL:https://spicegirlsco.com/event/neighborhood-food-truck-night/
END:VEVENT
BEGIN:VEVENT
DTSTART;TZID=America/Denver:20251007T112000
DTEND;TZID=America/Denver:20251007T122000
DTSTAMP:20260425T132735
CREATED:20251003T195858Z
LAST-MODIFIED:20251003T195858Z
UID:10000132-1759836000-1759839600@spicegirlsco.com
SUMMARY:1120 dr appt
DESCRIPTION:
URL:https://spicegirlsco.com/event/1120-dr-appt/
END:VEVENT
BEGIN:VEVENT
DTSTART;TZID=America/Denver:20251007T104500
DTEND;TZID=America/Denver:20251007T114500
DTSTAMP:20260425T132735
CREATED:20250923T175733Z
LAST-MODIFIED:20250923T175733Z
UID:10000128-1759833900-1759837500@spicegirlsco.com
SUMMARY:Botox dtc office
DESCRIPTION:
URL:https://spicegirlsco.com/event/botox-dtc-office/
END:VEVENT
BEGIN:VEVENT
DTSTART;TZID=America/Denver:20251007T050000
DTEND;TZID=America/Denver:20251007T060000
DTSTAMP:20260425T132735
CREATED:20250929T165521Z
LAST-MODIFIED:20250929T165521Z
UID:10000130-1759813200-1759816800@spicegirlsco.com
SUMMARY:Amazon Prime Day
DESCRIPTION:
URL:https://spicegirlsco.com/event/amazon-prime-day/
END:VEVENT
BEGIN:VEVENT
DTSTART;TZID=America/Denver:20251005T120000
DTEND;TZID=America/Denver:20251005T170000
DTSTAMP:20260425T132735
CREATED:20250703T155244Z
LAST-MODIFIED:20250703T155244Z
UID:10000088-1759665600-1759683600@spicegirlsco.com
SUMMARY:Denver Roller Derby
DESCRIPTION:
URL:https://spicegirlsco.com/event/denver-roller-derby-2/
END:VEVENT
BEGIN:VEVENT
DTSTART;TZID=America/Denver:20251003T120000
DTEND;TZID=America/Denver:20251003T200000
DTSTAMP:20260425T132735
CREATED:20250703T155244Z
LAST-MODIFIED:20250703T155244Z
UID:10000087-1759492800-1759521600@spicegirlsco.com
SUMMARY:Denver Roller Derby
DESCRIPTION:
URL:https://spicegirlsco.com/event/denver-roller-derby/
END:VEVENT
BEGIN:VEVENT
DTSTART;TZID=America/Denver:20251002T160000
DTEND;TZID=America/Denver:20251002T200000
DTSTAMP:20260425T132735
CREATED:20250816T195356Z
LAST-MODIFIED:20250816T195356Z
UID:10000111-1759420800-1759435200@spicegirlsco.com
SUMMARY:2 Dads Eatery & Taproom
DESCRIPTION:
URL:https://spicegirlsco.com/event/2-dads-eatery-taproom-10/
LOCATION:60006 US Hwy 285\, Bailey\, CO 80421\, USA
END:VEVENT
BEGIN:VEVENT
DTSTART;TZID=America/Denver:20251001T150000
DTEND;TZID=America/Denver:20251001T180000
DTSTAMP:20260425T132735
CREATED:20250905T145237Z
LAST-MODIFIED:20250905T145237Z
UID:10000118-1759330800-1759341600@spicegirlsco.com
SUMMARY:Roaming Hunger Private Event
DESCRIPTION:100ppl $1500 must have desert + drinks
URL:https://spicegirlsco.com/event/roaming-hunger-private-event-2/
LOCATION:12300 East Arapahoe Road\, Centennial CO 80112
END:VEVENT
BEGIN:VEVENT
DTSTART;TZID=America/Denver:20250930T093000
DTEND;TZID=America/Denver:20250930T103000
DTSTAMP:20260425T132735
CREATED:20250624T185753Z
LAST-MODIFIED:20250624T185753Z
UID:10000075-1759224600-1759228200@spicegirlsco.com
SUMMARY:Dental appt
DESCRIPTION:
URL:https://spicegirlsco.com/event/dental-appt/
END:VEVENT
BEGIN:VEVENT
DTSTART;TZID=America/Denver:20250929T080000
DTEND;TZID=America/Denver:20250929T090000
DTSTAMP:20260425T132735
CREATED:20250916T035304Z
LAST-MODIFIED:20250916T035304Z
UID:10000125-1759132800-1759136400@spicegirlsco.com
SUMMARY:830am skin laundry
DESCRIPTION:
URL:https://spicegirlsco.com/event/830am-skin-laundry/
END:VEVENT
BEGIN:VEVENT
DTSTART;TZID=America/Denver:20250925T160000
DTEND;TZID=America/Denver:20250925T200000
DTSTAMP:20260425T132735
CREATED:20250816T195356Z
LAST-MODIFIED:20250816T195356Z
UID:10000110-1758816000-1758830400@spicegirlsco.com
SUMMARY:2 Dads Eatery & Taproom
DESCRIPTION:
URL:https://spicegirlsco.com/event/2-dads-eatery-taproom-9/
LOCATION:60006 US Hwy 285\, Bailey\, CO 80421\, USA
END:VEVENT
BEGIN:VEVENT
DTSTART;TZID=America/Denver:20250924T160000
DTEND;TZID=America/Denver:20250924T200000
DTSTAMP:20260425T132735
CREATED:20250816T195356Z
LAST-MODIFIED:20250816T195356Z
UID:10000109-1758729600-1758744000@spicegirlsco.com
SUMMARY:2 Dads Eatery & Taproom
DESCRIPTION:
URL:https://spicegirlsco.com/event/2-dads-eatery-taproom-8/
LOCATION:60006 US Hwy 285\, Bailey\, CO 80421\, USA
END:VEVENT
BEGIN:VEVENT
DTSTART;TZID=America/Denver:20250920T110000
DTEND;TZID=America/Denver:20250920T140000
DTSTAMP:20260425T132735
CREATED:20250628T015429Z
LAST-MODIFIED:20250628T015429Z
UID:10000080-1758366000-1758376800@spicegirlsco.com
SUMMARY:Horse Show Event
DESCRIPTION:Sherry gmail
URL:https://spicegirlsco.com/event/horse-show-event/
LOCATION:16687 N County Rd 9\, Wellington\, CO 80549\, USA
END:VEVENT
END:VCALENDAR