BEGIN:VCALENDAR
VERSION:2.0
PRODID:-//Spice Girls Global Kitchen - ECPv6.1.2.2//NONSGML v1.0//EN
CALSCALE:GREGORIAN
METHOD:PUBLISH
X-ORIGINAL-URL:https://spicegirlsco.com
X-WR-CALDESC:Events for Spice Girls Global Kitchen
REFRESH-INTERVAL;VALUE=DURATION:PT1H
X-Robots-Tag:noindex
X-PUBLISHED-TTL:PT1H
BEGIN:VTIMEZONE
TZID:America/Denver
BEGIN:DAYLIGHT
TZOFFSETFROM:-0700
TZOFFSETTO:-0600
TZNAME:MDT
DTSTART:20250309T090000
END:DAYLIGHT
BEGIN:STANDARD
TZOFFSETFROM:-0600
TZOFFSETTO:-0700
TZNAME:MST
DTSTART:20251102T080000
END:STANDARD
END:VTIMEZONE
BEGIN:VEVENT
DTSTART;TZID=America/Denver:20251205T130000
DTEND;TZID=America/Denver:20251205T160000
DTSTAMP:20260425T193009
CREATED:20251122T220004Z
LAST-MODIFIED:20251122T220004Z
UID:10000144-1764939600-1764950400@spicegirlsco.com
SUMMARY:Roaming Hunger Private Event
DESCRIPTION:150ppl full menu entree and side no drink
URL:https://spicegirlsco.com/event/roaming-hunger-private-event-3/
LOCATION:2840 S Zuni St\, Englewood\, CO 80110\, USA
END:VEVENT
BEGIN:VEVENT
DTSTART;TZID=America/Denver:20251205T174500
DTEND;TZID=America/Denver:20251205T191500
DTSTAMP:20260425T193009
CREATED:20251117T225323Z
LAST-MODIFIED:20251117T225323Z
UID:10000141-1764956700-1764962100@spicegirlsco.com
SUMMARY:Busy
DESCRIPTION:
URL:https://spicegirlsco.com/event/busy-17/
END:VEVENT
END:VCALENDAR