BEGIN:VCALENDAR
VERSION:2.0
PRODID:-//Spice Girls Global Kitchen - ECPv6.1.2.2//NONSGML v1.0//EN
CALSCALE:GREGORIAN
METHOD:PUBLISH
X-WR-CALNAME:Spice Girls Global Kitchen
X-ORIGINAL-URL:https://spicegirlsco.com
X-WR-CALDESC:Events for Spice Girls Global Kitchen
REFRESH-INTERVAL;VALUE=DURATION:PT1H
X-Robots-Tag:noindex
X-PUBLISHED-TTL:PT1H
BEGIN:VTIMEZONE
TZID:America/Denver
BEGIN:DAYLIGHT
TZOFFSETFROM:-0700
TZOFFSETTO:-0600
TZNAME:MDT
DTSTART:20250309T090000
END:DAYLIGHT
BEGIN:STANDARD
TZOFFSETFROM:-0600
TZOFFSETTO:-0700
TZNAME:MST
DTSTART:20251102T080000
END:STANDARD
END:VTIMEZONE
BEGIN:VEVENT
DTSTART;TZID=America/Denver:20251030T163000
DTEND;TZID=America/Denver:20251030T183000
DTSTAMP:20260425T205207
CREATED:20250908T235248Z
LAST-MODIFIED:20250908T235248Z
UID:10000122-1761841800-1761849000@spicegirlsco.com
SUMMARY:Trunk or Treat Bacon Elementary
DESCRIPTION:
URL:https://spicegirlsco.com/event/trunk-or-treat-bacon-elementary/
LOCATION:5844 S Timberline Rd\, Fort Collins\, CO 80528\, USA
END:VEVENT
BEGIN:VEVENT
DTSTART;TZID=America/Denver:20251030T163000
DTEND;TZID=America/Denver:20251030T183000
DTSTAMP:20260425T205207
CREATED:20250910T225954Z
LAST-MODIFIED:20250910T225954Z
UID:10000124-1761841800-1761849000@spicegirlsco.com
SUMMARY:Trunk or Treat
DESCRIPTION:Truckster Catering Lead—Trunk or Treatrequested by Kristina Perniceon Oct 30\, 2025Client Email: 911kpernice@gmail.comClient Phone: 7088214107Food Truck: Spice Girls Global KitchenFood Truck Email: spicegirlscolo@gmail.comFood Truck Phone: +13039613267 \nPaying By: AttendeesBudget: TBDGuest: 350Event Type: Food Truck ServiceRequest Type: Mediterranean\, Pizza\, Mexican \nClient Notes: We hope to have Vegan and Gluten free items available for our families.
URL:https://spicegirlsco.com/event/trunk-or-treat/
LOCATION:5844 S Timberline Rd\, Fort Collins\, 80528
END:VEVENT
END:VCALENDAR