BEGIN:VCALENDAR
VERSION:2.0
PRODID:-//Spice Girls Global Kitchen - ECPv6.1.2.2//NONSGML v1.0//EN
CALSCALE:GREGORIAN
METHOD:PUBLISH
X-ORIGINAL-URL:https://spicegirlsco.com
X-WR-CALDESC:Events for Spice Girls Global Kitchen
REFRESH-INTERVAL;VALUE=DURATION:PT1H
X-Robots-Tag:noindex
X-PUBLISHED-TTL:PT1H
BEGIN:VTIMEZONE
TZID:America/Denver
BEGIN:DAYLIGHT
TZOFFSETFROM:-0700
TZOFFSETTO:-0600
TZNAME:MDT
DTSTART:20250309T090000
END:DAYLIGHT
BEGIN:STANDARD
TZOFFSETFROM:-0600
TZOFFSETTO:-0700
TZNAME:MST
DTSTART:20251102T080000
END:STANDARD
END:VTIMEZONE
BEGIN:VEVENT
DTSTART;TZID=America/Denver:20251007T050000
DTEND;TZID=America/Denver:20251007T060000
DTSTAMP:20260425T221907
CREATED:20250929T165521Z
LAST-MODIFIED:20250929T165521Z
UID:10000130-1759813200-1759816800@spicegirlsco.com
SUMMARY:Amazon Prime Day
DESCRIPTION:
URL:https://spicegirlsco.com/event/amazon-prime-day/
END:VEVENT
BEGIN:VEVENT
DTSTART;TZID=America/Denver:20251007T104500
DTEND;TZID=America/Denver:20251007T114500
DTSTAMP:20260425T221907
CREATED:20250923T175733Z
LAST-MODIFIED:20250923T175733Z
UID:10000128-1759833900-1759837500@spicegirlsco.com
SUMMARY:Botox dtc office
DESCRIPTION:
URL:https://spicegirlsco.com/event/botox-dtc-office/
END:VEVENT
BEGIN:VEVENT
DTSTART;TZID=America/Denver:20251007T112000
DTEND;TZID=America/Denver:20251007T122000
DTSTAMP:20260425T221907
CREATED:20251003T195858Z
LAST-MODIFIED:20251003T195858Z
UID:10000132-1759836000-1759839600@spicegirlsco.com
SUMMARY:1120 dr appt
DESCRIPTION:
URL:https://spicegirlsco.com/event/1120-dr-appt/
END:VEVENT
END:VCALENDAR