BEGIN:VCALENDAR
VERSION:2.0
PRODID:-//Spice Girls Global Kitchen - ECPv6.1.2.2//NONSGML v1.0//EN
CALSCALE:GREGORIAN
METHOD:PUBLISH
X-WR-CALNAME:Spice Girls Global Kitchen
X-ORIGINAL-URL:https://spicegirlsco.com
X-WR-CALDESC:Events for Spice Girls Global Kitchen
REFRESH-INTERVAL;VALUE=DURATION:PT1H
X-Robots-Tag:noindex
X-PUBLISHED-TTL:PT1H
BEGIN:VTIMEZONE
TZID:America/Denver
BEGIN:DAYLIGHT
TZOFFSETFROM:-0700
TZOFFSETTO:-0600
TZNAME:MDT
DTSTART:20250309T090000
END:DAYLIGHT
BEGIN:STANDARD
TZOFFSETFROM:-0600
TZOFFSETTO:-0700
TZNAME:MST
DTSTART:20251102T080000
END:STANDARD
END:VTIMEZONE
BEGIN:VEVENT
DTSTART;TZID=America/Denver:20250830T180000
DTEND;TZID=America/Denver:20250830T210000
DTSTAMP:20260426T005943
CREATED:20250608T005720Z
LAST-MODIFIED:20250608T005720Z
UID:10000062-1756576800-1756587600@spicegirlsco.com
SUMMARY:Sarah P and the Dirty Loggers Kiowa event
DESCRIPTION:Sms 1417 Lynette
URL:https://spicegirlsco.com/event/sarah-p-and-the-dirty-loggers-kiowa-event/
END:VEVENT
BEGIN:VEVENT
DTSTART;TZID=America/Denver:20250830T180000
DTEND;TZID=America/Denver:20250830T210000
DTSTAMP:20260426T005943
CREATED:20250818T005234Z
LAST-MODIFIED:20250818T005234Z
UID:10000112-1756576800-1756587600@spicegirlsco.com
SUMMARY:PCHS HS Reunion
DESCRIPTION:600 min 50ppl roaming hunger vending event
URL:https://spicegirlsco.com/event/pchs-hs-reunion/
LOCATION:3422 S Broadway\, Englewood\, CO 80113\, USA
END:VEVENT
END:VCALENDAR