BEGIN:VCALENDAR
VERSION:2.0
PRODID:-//Spice Girls Global Kitchen - ECPv6.1.2.2//NONSGML v1.0//EN
CALSCALE:GREGORIAN
METHOD:PUBLISH
X-WR-CALNAME:Spice Girls Global Kitchen
X-ORIGINAL-URL:https://spicegirlsco.com
X-WR-CALDESC:Events for Spice Girls Global Kitchen
REFRESH-INTERVAL;VALUE=DURATION:PT1H
X-Robots-Tag:noindex
X-PUBLISHED-TTL:PT1H
BEGIN:VTIMEZONE
TZID:America/Denver
BEGIN:DAYLIGHT
TZOFFSETFROM:-0700
TZOFFSETTO:-0600
TZNAME:MDT
DTSTART:20250309T090000
END:DAYLIGHT
BEGIN:STANDARD
TZOFFSETFROM:-0600
TZOFFSETTO:-0700
TZNAME:MST
DTSTART:20251102T080000
END:STANDARD
END:VTIMEZONE
BEGIN:VEVENT
DTSTART;TZID=America/Denver:20250801T120000
DTEND;TZID=America/Denver:20250801T150000
DTSTAMP:20260426T005943
CREATED:20250723T155405Z
LAST-MODIFIED:20250723T155405Z
UID:10000099-1754049600-1754060400@spicegirlsco.com
SUMMARY:Grease Monkey
DESCRIPTION:
URL:https://spicegirlsco.com/event/grease-monkey/
LOCATION:12060 colorado Blvd thornton
END:VEVENT
BEGIN:VEVENT
DTSTART;TZID=America/Denver:20250801T170000
DTEND;TZID=America/Denver:20250801T200000
DTSTAMP:20260426T005943
CREATED:20250527T010931Z
LAST-MODIFIED:20250527T010931Z
UID:10000055-1754067600-1754078400@spicegirlsco.com
SUMMARY:Applewood Knolls Swim Club
DESCRIPTION:
URL:https://spicegirlsco.com/event/applewood-knolls-swim-club-2/
LOCATION:11520 W 32nd Ave\, Wheat Ridge\, CO 80033\, USA
END:VEVENT
END:VCALENDAR